BEGIN:VCALENDAR
VERSION:2.0
PRODID:-//Grand Rapids OH Chamber - ECPv6.15.20//NONSGML v1.0//EN
CALSCALE:GREGORIAN
METHOD:PUBLISH
X-WR-CALNAME:Grand Rapids OH Chamber
X-ORIGINAL-URL:https://visitgrandrapidsohio.com
X-WR-CALDESC:Events for Grand Rapids OH Chamber
REFRESH-INTERVAL;VALUE=DURATION:PT1H
X-Robots-Tag:noindex
X-PUBLISHED-TTL:PT1H
BEGIN:VTIMEZONE
TZID:America/New_York
BEGIN:DAYLIGHT
TZOFFSETFROM:-0500
TZOFFSETTO:-0400
TZNAME:EDT
DTSTART:20250309T070000
END:DAYLIGHT
BEGIN:STANDARD
TZOFFSETFROM:-0400
TZOFFSETTO:-0500
TZNAME:EST
DTSTART:20251102T060000
END:STANDARD
BEGIN:DAYLIGHT
TZOFFSETFROM:-0500
TZOFFSETTO:-0400
TZNAME:EDT
DTSTART:20260308T070000
END:DAYLIGHT
BEGIN:STANDARD
TZOFFSETFROM:-0400
TZOFFSETTO:-0500
TZNAME:EST
DTSTART:20261101T060000
END:STANDARD
BEGIN:DAYLIGHT
TZOFFSETFROM:-0500
TZOFFSETTO:-0400
TZNAME:EDT
DTSTART:20270314T070000
END:DAYLIGHT
BEGIN:STANDARD
TZOFFSETFROM:-0400
TZOFFSETTO:-0500
TZNAME:EST
DTSTART:20271107T060000
END:STANDARD
END:VTIMEZONE
BEGIN:VEVENT
DTSTART;TZID=America/New_York:20260421T173000
DTEND;TZID=America/New_York:20260421T183000
DTSTAMP:20260419T195427
CREATED:20260419T172906Z
LAST-MODIFIED:20260419T172906Z
UID:3324-1776792600-1776796200@visitgrandrapidsohio.com
SUMMARY:Adopt-a-Garden 2026
DESCRIPTION:Informational Meeting & Kickoff \nRSVP Here: https://wcparks.galaxydigital.com/need/detail/…\nDo you have a green thumb and enjoy working outdoors? Are you curious about the benefits of native plants?\nJoin staff and returning volunteers to learn about the adoptable native gardens and plant beds within your Wood County Parks and what you can do to help! \nJ.C. Reuthinger Memorial Preserve\n30730 Oregon Rd\nPerrysburg\, OH  43551
URL:https://visitgrandrapidsohio.com/event/adopt-a-garden-2026/
ATTACH;FMTTYPE=image/jpeg:https://visitgrandrapidsohio.com/wp-content/uploads/2026/04/adopt-a-garden.jpg
END:VEVENT
END:VCALENDAR