BEGIN:VCALENDAR
VERSION:2.0
PRODID:-//Grand Rapids OH Chamber - ECPv6.15.20//NONSGML v1.0//EN
CALSCALE:GREGORIAN
METHOD:PUBLISH
X-WR-CALNAME:Grand Rapids OH Chamber
X-ORIGINAL-URL:https://visitgrandrapidsohio.com
X-WR-CALDESC:Events for Grand Rapids OH Chamber
REFRESH-INTERVAL;VALUE=DURATION:PT1H
X-Robots-Tag:noindex
X-PUBLISHED-TTL:PT1H
BEGIN:VTIMEZONE
TZID:America/New_York
BEGIN:DAYLIGHT
TZOFFSETFROM:-0500
TZOFFSETTO:-0400
TZNAME:EDT
DTSTART:20250309T070000
END:DAYLIGHT
BEGIN:STANDARD
TZOFFSETFROM:-0400
TZOFFSETTO:-0500
TZNAME:EST
DTSTART:20251102T060000
END:STANDARD
BEGIN:DAYLIGHT
TZOFFSETFROM:-0500
TZOFFSETTO:-0400
TZNAME:EDT
DTSTART:20260308T070000
END:DAYLIGHT
BEGIN:STANDARD
TZOFFSETFROM:-0400
TZOFFSETTO:-0500
TZNAME:EST
DTSTART:20261101T060000
END:STANDARD
BEGIN:DAYLIGHT
TZOFFSETFROM:-0500
TZOFFSETTO:-0400
TZNAME:EDT
DTSTART:20270314T070000
END:DAYLIGHT
BEGIN:STANDARD
TZOFFSETFROM:-0400
TZOFFSETTO:-0500
TZNAME:EST
DTSTART:20271107T060000
END:STANDARD
END:VTIMEZONE
BEGIN:VEVENT
DTSTART;TZID=America/New_York:20260530T180000
DTEND;TZID=America/New_York:20260530T210000
DTSTAMP:20260419T202209
CREATED:20260419T193522Z
LAST-MODIFIED:20260419T193522Z
UID:3334-1780164000-1780174800@visitgrandrapidsohio.com
SUMMARY:Designer Purse Bingo Night
DESCRIPTION:Join us for Designer Purse Bingo with multiple chances to win!  Public welcome! Doors open at 6pm\, BINGO starts at 7pm. \nMore details to come.
URL:https://visitgrandrapidsohio.com/event/designer-purse-bingo-night/
LOCATION:American Legion Post 232\, 12580 S River Rd\, Grand Rapids\, OH\, 43522\, United States
ATTACH;FMTTYPE=image/jpeg:https://visitgrandrapidsohio.com/wp-content/uploads/2026/04/Purse-Bingo.jpg
END:VEVENT
END:VCALENDAR