BEGIN:VCALENDAR
VERSION:2.0
PRODID:-//Grand Rapids OH Chamber - ECPv6.15.20//NONSGML v1.0//EN
CALSCALE:GREGORIAN
METHOD:PUBLISH
X-WR-CALNAME:Grand Rapids OH Chamber
X-ORIGINAL-URL:https://visitgrandrapidsohio.com
X-WR-CALDESC:Events for Grand Rapids OH Chamber
REFRESH-INTERVAL;VALUE=DURATION:PT1H
X-Robots-Tag:noindex
X-PUBLISHED-TTL:PT1H
BEGIN:VTIMEZONE
TZID:America/New_York
BEGIN:DAYLIGHT
TZOFFSETFROM:-0500
TZOFFSETTO:-0400
TZNAME:EDT
DTSTART:20250309T070000
END:DAYLIGHT
BEGIN:STANDARD
TZOFFSETFROM:-0400
TZOFFSETTO:-0500
TZNAME:EST
DTSTART:20251102T060000
END:STANDARD
BEGIN:DAYLIGHT
TZOFFSETFROM:-0500
TZOFFSETTO:-0400
TZNAME:EDT
DTSTART:20260308T070000
END:DAYLIGHT
BEGIN:STANDARD
TZOFFSETFROM:-0400
TZOFFSETTO:-0500
TZNAME:EST
DTSTART:20261101T060000
END:STANDARD
BEGIN:DAYLIGHT
TZOFFSETFROM:-0500
TZOFFSETTO:-0400
TZNAME:EDT
DTSTART:20270314T070000
END:DAYLIGHT
BEGIN:STANDARD
TZOFFSETFROM:-0400
TZOFFSETTO:-0500
TZNAME:EST
DTSTART:20271107T060000
END:STANDARD
END:VTIMEZONE
BEGIN:VEVENT
DTSTART;TZID=America/New_York:20260412T080000
DTEND;TZID=America/New_York:20260412T170000
DTSTAMP:20260425T125228
CREATED:20260119T174113Z
LAST-MODIFIED:20260119T174113Z
UID:10002065-1775980800-1776013200@visitgrandrapidsohio.com
SUMMARY:Farm Breakfast with Wood County Park District
DESCRIPTION:Come taste the fruits of our labors – buckwheat pancakes with maple syrup\, bacon and eggs and other treats raised or grown on the Carter Historic Farm.  Food will be available until it is gone in a first-come first-served format.  Visitors will be served from a breakfast buffet. \nFor more information call (419) 353-1897 Ext. 400.
URL:https://visitgrandrapidsohio.com/event/farm-breakfast-with-wood-county-park-district/2026-04-12/
LOCATION:Otsego Park: Thompson Stone Hall\, 20000 W. River Rd (SR65)\, Bowling Green\, OH\, 43402\, United States
ATTACH;FMTTYPE=image/png:https://visitgrandrapidsohio.com/wp-content/uploads/2026/01/Farm-to-Table.png
END:VEVENT
END:VCALENDAR