BEGIN:VCALENDAR
VERSION:2.0
PRODID:-//Grand Rapids OH Chamber - ECPv6.15.20//NONSGML v1.0//EN
CALSCALE:GREGORIAN
METHOD:PUBLISH
X-WR-CALNAME:Grand Rapids OH Chamber
X-ORIGINAL-URL:https://visitgrandrapidsohio.com
X-WR-CALDESC:Events for Grand Rapids OH Chamber
REFRESH-INTERVAL;VALUE=DURATION:PT1H
X-Robots-Tag:noindex
X-PUBLISHED-TTL:PT1H
BEGIN:VTIMEZONE
TZID:America/New_York
BEGIN:DAYLIGHT
TZOFFSETFROM:-0500
TZOFFSETTO:-0400
TZNAME:EDT
DTSTART:20250309T070000
END:DAYLIGHT
BEGIN:STANDARD
TZOFFSETFROM:-0400
TZOFFSETTO:-0500
TZNAME:EST
DTSTART:20251102T060000
END:STANDARD
BEGIN:DAYLIGHT
TZOFFSETFROM:-0500
TZOFFSETTO:-0400
TZNAME:EDT
DTSTART:20260308T070000
END:DAYLIGHT
BEGIN:STANDARD
TZOFFSETFROM:-0400
TZOFFSETTO:-0500
TZNAME:EST
DTSTART:20261101T060000
END:STANDARD
BEGIN:DAYLIGHT
TZOFFSETFROM:-0500
TZOFFSETTO:-0400
TZNAME:EDT
DTSTART:20270314T070000
END:DAYLIGHT
BEGIN:STANDARD
TZOFFSETFROM:-0400
TZOFFSETTO:-0500
TZNAME:EST
DTSTART:20271107T060000
END:STANDARD
END:VTIMEZONE
BEGIN:VEVENT
DTSTART;TZID=America/New_York:20260516T113000
DTEND;TZID=America/New_York:20260516T123000
DTSTAMP:20260419T222418
CREATED:20260419T172138Z
LAST-MODIFIED:20260419T172138Z
UID:3321-1778931000-1778934600@visitgrandrapidsohio.com
SUMMARY:Goat Yoga with Baby Goats!
DESCRIPTION:We’re so excited to host our Yoga with Baby Goats class featuring FOUR baby goats from Tiny Hooves Farm! \n\n\nTiny Hooves Farm is a nonprofit dedicated to healing\, grief support\, and community care through therapeutic animal experiences. This class is more than just yoga\, it’s a chance to support a beautiful mission while enjoying the joy\, laughter\, and connection that only baby goats can bring.\n\n\nTiny Hooves Farm is home to mini Highland cows\, Valais Blacknose sheep\, alpacas\, and goats\, all cared for with love and purpose. Every ticket helps support their ongoing work in the community.\n\n\nPlease bring your own yoga mat (we do have a few extras available)\, and feel free to take pictures during class! Minimum age is 16.\n\n\nCome move\, smile\, and experience the kind of joy that reminds your whole body how to play \n\n\nClick here to register! https://share.fitdegree.com/?e=34307
URL:https://visitgrandrapidsohio.com/event/goat-yoga-with-baby-goats/
LOCATION:Wildlight Wellness\, 24168 Front Street\, Grand Rapids\, OH\, 43522\, United States
ATTACH;FMTTYPE=image/jpeg:https://visitgrandrapidsohio.com/wp-content/uploads/2026/04/goat-yoga.jpg
END:VEVENT
END:VCALENDAR