BEGIN:VCALENDAR
VERSION:2.0
PRODID:-//Grand Rapids OH Chamber - ECPv6.15.20//NONSGML v1.0//EN
CALSCALE:GREGORIAN
METHOD:PUBLISH
X-WR-CALNAME:Grand Rapids OH Chamber
X-ORIGINAL-URL:https://visitgrandrapidsohio.com
X-WR-CALDESC:Events for Grand Rapids OH Chamber
REFRESH-INTERVAL;VALUE=DURATION:PT1H
X-Robots-Tag:noindex
X-PUBLISHED-TTL:PT1H
BEGIN:VTIMEZONE
TZID:America/New_York
BEGIN:DAYLIGHT
TZOFFSETFROM:-0500
TZOFFSETTO:-0400
TZNAME:EDT
DTSTART:20250309T070000
END:DAYLIGHT
BEGIN:STANDARD
TZOFFSETFROM:-0400
TZOFFSETTO:-0500
TZNAME:EST
DTSTART:20251102T060000
END:STANDARD
BEGIN:DAYLIGHT
TZOFFSETFROM:-0500
TZOFFSETTO:-0400
TZNAME:EDT
DTSTART:20260308T070000
END:DAYLIGHT
BEGIN:STANDARD
TZOFFSETFROM:-0400
TZOFFSETTO:-0500
TZNAME:EST
DTSTART:20261101T060000
END:STANDARD
BEGIN:DAYLIGHT
TZOFFSETFROM:-0500
TZOFFSETTO:-0400
TZNAME:EDT
DTSTART:20270314T070000
END:DAYLIGHT
BEGIN:STANDARD
TZOFFSETFROM:-0400
TZOFFSETTO:-0500
TZNAME:EST
DTSTART:20271107T060000
END:STANDARD
END:VTIMEZONE
BEGIN:VEVENT
DTSTART;TZID=America/New_York:20260420T183000
DTEND;TZID=America/New_York:20260420T183000
DTSTAMP:20260419T195426
CREATED:20260419T173319Z
LAST-MODIFIED:20260419T224056Z
UID:3327-1776709800-1776709800@visitgrandrapidsohio.com
SUMMARY:Steering Committee Meeting
DESCRIPTION:Next meeting of the Steering committee is Monday (4/20)\, 6:30 pm at the library.\nWe are looking forward to seeing all of you at this meeting to collaborate and network!\nEven if you haven’t been to a previous meeting\, please join us! Let’s keep the positive momentum going!
URL:https://visitgrandrapidsohio.com/event/steering-committee-meeting/
LOCATION:Grand Rapids Library\, Grand Rapids\, OH\, 43522\, United States
ATTACH;FMTTYPE=image/jpeg:https://visitgrandrapidsohio.com/wp-content/uploads/2026/04/Steering-committee.jpg
END:VEVENT
END:VCALENDAR