BEGIN:VCALENDAR
VERSION:2.0
PRODID:-//Grand Rapids OH Chamber - ECPv6.15.20//NONSGML v1.0//EN
CALSCALE:GREGORIAN
METHOD:PUBLISH
X-WR-CALNAME:Grand Rapids OH Chamber
X-ORIGINAL-URL:https://visitgrandrapidsohio.com
X-WR-CALDESC:Events for Grand Rapids OH Chamber
REFRESH-INTERVAL;VALUE=DURATION:PT1H
X-Robots-Tag:noindex
X-PUBLISHED-TTL:PT1H
BEGIN:VTIMEZONE
TZID:America/New_York
BEGIN:DAYLIGHT
TZOFFSETFROM:-0500
TZOFFSETTO:-0400
TZNAME:EDT
DTSTART:20250309T070000
END:DAYLIGHT
BEGIN:STANDARD
TZOFFSETFROM:-0400
TZOFFSETTO:-0500
TZNAME:EST
DTSTART:20251102T060000
END:STANDARD
BEGIN:DAYLIGHT
TZOFFSETFROM:-0500
TZOFFSETTO:-0400
TZNAME:EDT
DTSTART:20260308T070000
END:DAYLIGHT
BEGIN:STANDARD
TZOFFSETFROM:-0400
TZOFFSETTO:-0500
TZNAME:EST
DTSTART:20261101T060000
END:STANDARD
BEGIN:DAYLIGHT
TZOFFSETFROM:-0500
TZOFFSETTO:-0400
TZNAME:EDT
DTSTART:20270314T070000
END:DAYLIGHT
BEGIN:STANDARD
TZOFFSETFROM:-0400
TZOFFSETTO:-0500
TZNAME:EST
DTSTART:20271107T060000
END:STANDARD
END:VTIMEZONE
BEGIN:VEVENT
DTSTART;TZID=America/New_York:20260727T190000
DTEND;TZID=America/New_York:20260727T193000
DTSTAMP:20260425T113352
CREATED:20260104T215830Z
LAST-MODIFIED:20260119T174336Z
UID:10001449-1785178800-1785180600@visitgrandrapidsohio.com
SUMMARY:Township Trustees Meeting
DESCRIPTION:What to know what’s going on in your township? Meetings are held the 2nd and 4th Mondays of every month and are open to the public with opportunities to ask questions at the end of the meeting.
URL:https://visitgrandrapidsohio.com/event/township-trustees-meeting-2/2026-07-27/
LOCATION:New Fire Station\, 17706 Wapakoneta Rd\, Grand Rapids\, OH\, United States
ATTACH;FMTTYPE=image/png:https://visitgrandrapidsohio.com/wp-content/uploads/2026/01/GR-township-.png
END:VEVENT
END:VCALENDAR