BEGIN:VCALENDAR
VERSION:2.0
PRODID:-//Grand Rapids OH Chamber - ECPv6.15.20//NONSGML v1.0//EN
CALSCALE:GREGORIAN
METHOD:PUBLISH
X-WR-CALNAME:Grand Rapids OH Chamber
X-ORIGINAL-URL:https://visitgrandrapidsohio.com
X-WR-CALDESC:Events for Grand Rapids OH Chamber
REFRESH-INTERVAL;VALUE=DURATION:PT1H
X-Robots-Tag:noindex
X-PUBLISHED-TTL:PT1H
BEGIN:VTIMEZONE
TZID:America/New_York
BEGIN:DAYLIGHT
TZOFFSETFROM:-0500
TZOFFSETTO:-0400
TZNAME:EDT
DTSTART:20250309T070000
END:DAYLIGHT
BEGIN:STANDARD
TZOFFSETFROM:-0400
TZOFFSETTO:-0500
TZNAME:EST
DTSTART:20251102T060000
END:STANDARD
BEGIN:DAYLIGHT
TZOFFSETFROM:-0500
TZOFFSETTO:-0400
TZNAME:EDT
DTSTART:20260308T070000
END:DAYLIGHT
BEGIN:STANDARD
TZOFFSETFROM:-0400
TZOFFSETTO:-0500
TZNAME:EST
DTSTART:20261101T060000
END:STANDARD
BEGIN:DAYLIGHT
TZOFFSETFROM:-0500
TZOFFSETTO:-0400
TZNAME:EDT
DTSTART:20270314T070000
END:DAYLIGHT
BEGIN:STANDARD
TZOFFSETFROM:-0400
TZOFFSETTO:-0500
TZNAME:EST
DTSTART:20271107T060000
END:STANDARD
END:VTIMEZONE
BEGIN:VEVENT
DTSTART;TZID=America/New_York:20260326T180000
DTEND;TZID=America/New_York:20260326T193000
DTSTAMP:20260425T190025
CREATED:20260125T024546Z
LAST-MODIFIED:20260125T024546Z
UID:10002069-1774548000-1774553400@visitgrandrapidsohio.com
SUMMARY:Wildlight Book Club
DESCRIPTION:The last Thursday each month. We love books. We love community. We love talking about the books we are reading. Our WL Book Club mission is to inspire meaningful connections + conversation through reading. We believe in the power of book club to enhance the reading experience\, support lifelong learning\, and to build a heartfelt\, engaged\, and informed community. Our Wildlight teaching team rotates facilitating this meeting and brings their own flare to book club. Registration is required for this class and cancellation policies apply. \nJanuary 29th | The Soul of an Octopus by Sy Montgomery with Kellie Noble-Sharpe \nLooking Ahead |\nFebruary 26 | Braiding Sweetgrass by Robin Wall Kimmer with Angie Corogin\nMarch 26 | Gathering Moss by Robin Wall Kimmer with Angie Snyder \nCOST: INCLUDED IN MEMBERSHIP | $15 Drop-in
URL:https://visitgrandrapidsohio.com/event/wildlight-book-club/2026-03-26/
LOCATION:Wildlight Wellness\, 24168 Front Street\, Grand Rapids\, OH\, 43522\, United States
ATTACH;FMTTYPE=image/jpeg:https://visitgrandrapidsohio.com/wp-content/uploads/2026/01/Wildlight-Book-Club-Angie-Corogin-Grand-Rapids-Ohio.jpg
END:VEVENT
END:VCALENDAR