BEGIN:VCALENDAR
VERSION:2.0
PRODID:-//Grand Rapids OH Chamber - ECPv6.15.20//NONSGML v1.0//EN
CALSCALE:GREGORIAN
METHOD:PUBLISH
X-WR-CALNAME:Grand Rapids OH Chamber
X-ORIGINAL-URL:https://visitgrandrapidsohio.com
X-WR-CALDESC:Events for Grand Rapids OH Chamber
REFRESH-INTERVAL;VALUE=DURATION:PT1H
X-Robots-Tag:noindex
X-PUBLISHED-TTL:PT1H
BEGIN:VTIMEZONE
TZID:America/New_York
BEGIN:DAYLIGHT
TZOFFSETFROM:-0500
TZOFFSETTO:-0400
TZNAME:EDT
DTSTART:20250309T070000
END:DAYLIGHT
BEGIN:STANDARD
TZOFFSETFROM:-0400
TZOFFSETTO:-0500
TZNAME:EST
DTSTART:20251102T060000
END:STANDARD
BEGIN:DAYLIGHT
TZOFFSETFROM:-0500
TZOFFSETTO:-0400
TZNAME:EDT
DTSTART:20260308T070000
END:DAYLIGHT
BEGIN:STANDARD
TZOFFSETFROM:-0400
TZOFFSETTO:-0500
TZNAME:EST
DTSTART:20261101T060000
END:STANDARD
BEGIN:DAYLIGHT
TZOFFSETFROM:-0500
TZOFFSETTO:-0400
TZNAME:EDT
DTSTART:20270314T070000
END:DAYLIGHT
BEGIN:STANDARD
TZOFFSETFROM:-0400
TZOFFSETTO:-0500
TZNAME:EST
DTSTART:20271107T060000
END:STANDARD
END:VTIMEZONE
BEGIN:VEVENT
DTSTART;TZID=America/New_York:20260424T080000
DTEND;TZID=America/New_York:20260424T170000
DTSTAMP:20260424T092729
CREATED:20260125T033538Z
LAST-MODIFIED:20260125T033538Z
UID:10002083-1777017600-1777050000@visitgrandrapidsohio.com
SUMMARY:Bittersweet Farms Music Vine Concert Series
DESCRIPTION:Join us for live music every Friday from 11:30am-1:00pm. Music Vine is held at the Grand Rapids Town Hall from October-April\, and in the Pavilion at Bittersweet Farms in Whitehouse (12660 Archbold-Whitehouse Rd.\, Whitehouse\, OH 43571) from May-September. This event is free and open to the public\, so bring your favorite rhythm instrument and your dancing shoes and get ready to rock! \nPlease note: pop and coffee are not permitted at Music Vine. Thank you for your cooperation! \nUpcoming Music Vine Schedule: \nREMINDER: Music Vine is currently in its indoor season at the Grand Rapids Town Hall (24282 Front St.\, Grand Rapids\, OH)! \n1/23/2026 – Aaron Konwinski—CANCELLED due to dangerous cold \n1/30/2026 – Birds of a Feather \n2/6/2026- Noah Nelson \n2/13/2026- Bittersweet Karaoke \n2/20/2026- Aaron Hertzfeld \n2/27/2026- John Reichle \n3/6/2026- Dooley Wilson \n3/13/2026- Papa Teague \n3/20/2026- Jason Ramm \n3/27/2026- Bittersweet Karaoke \n4/3/2026- No Vine (Good Friday Holiday) \n4/10/2026- Asa Danekind \n4/17/2026- Birds of a Feather \n4/24/2026- Jim Boedicker
URL:https://visitgrandrapidsohio.com/event/bittersweet-farms-music-vine-concert-series/2026-04-24/
LOCATION:Grand Rapids Town Hall\, 24282 Front Street\, Grand Rapids\, OH\, 43522\, United States
ATTACH;FMTTYPE=image/png:https://visitgrandrapidsohio.com/wp-content/uploads/2026/01/Bittersweet-Farms-Grand-Rapids-Ohio.png
ORGANIZER;CN="Bittersweet Farms":MAILTO:info@bittersweetfarms.org
END:VEVENT
BEGIN:VEVENT
DTSTART;TZID=America/New_York:20260424T180000
DTEND;TZID=America/New_York:20260424T210000
DTSTAMP:20260424T092729
CREATED:20260412T210442Z
LAST-MODIFIED:20260412T210442Z
UID:10002479-1777053600-1777064400@visitgrandrapidsohio.com
SUMMARY:CBR Trio at Fernando's
DESCRIPTION:Friday night live at Fernando’s!!
URL:https://visitgrandrapidsohio.com/event/cbr-trio-at-fernandos/2026-04-24/
LOCATION:Fernando’s\, 24129 Front Street\, Grand Rapids\, 43522\, United States
ATTACH;FMTTYPE=image/jpeg:https://visitgrandrapidsohio.com/wp-content/uploads/2026/04/CBR-Trio.jpg
END:VEVENT
BEGIN:VEVENT
DTSTART;TZID=America/New_York:20260424T183000
DTEND;TZID=America/New_York:20260424T203000
DTSTAMP:20260424T092729
CREATED:20260419T201959Z
LAST-MODIFIED:20260419T201959Z
UID:10002615-1777055400-1777062600@visitgrandrapidsohio.com
SUMMARY:Auditions for Anastasia: the Musical
DESCRIPTION:Performances will be during the Annual Rally by the River Days Event\, July 10-12th. Rehearsals are Tuesday\, Wednesday and Thursday evenings and Sunday afternoons. \nWhat to Expect: \n\nPlease come ready to sing a short musical theatre selection (1-2 minutes) that shows your vocal range.\nAn accompanist and Bluetooth speaker will be provided.\nWe will also ask you to read an act with other auditioners.\nAll ages and experience levels are welcome!\nNo appointments are needed.\nIf you cannot attend\, contact grandrapidsohiotheatre@gmail.com to arrange and submit a video audition.
URL:https://visitgrandrapidsohio.com/event/auditions-for-anastasia-the-musical/2026-04-24/
LOCATION:Grand Rapids Town Hall\, 24282 Front Street\, Grand Rapids\, OH\, 43522\, United States
ATTACH;FMTTYPE=image/jpeg:https://visitgrandrapidsohio.com/wp-content/uploads/2026/04/Anastasia-auditions.jpg
END:VEVENT
END:VCALENDAR