BEGIN:VCALENDAR
VERSION:2.0
PRODID:-//Grand Rapids OH Chamber - ECPv6.15.20//NONSGML v1.0//EN
CALSCALE:GREGORIAN
METHOD:PUBLISH
X-WR-CALNAME:Grand Rapids OH Chamber
X-ORIGINAL-URL:https://visitgrandrapidsohio.com
X-WR-CALDESC:Events for Grand Rapids OH Chamber
REFRESH-INTERVAL;VALUE=DURATION:PT1H
X-Robots-Tag:noindex
X-PUBLISHED-TTL:PT1H
BEGIN:VTIMEZONE
TZID:America/New_York
BEGIN:DAYLIGHT
TZOFFSETFROM:-0500
TZOFFSETTO:-0400
TZNAME:EDT
DTSTART:20250309T070000
END:DAYLIGHT
BEGIN:STANDARD
TZOFFSETFROM:-0400
TZOFFSETTO:-0500
TZNAME:EST
DTSTART:20251102T060000
END:STANDARD
BEGIN:DAYLIGHT
TZOFFSETFROM:-0500
TZOFFSETTO:-0400
TZNAME:EDT
DTSTART:20260308T070000
END:DAYLIGHT
BEGIN:STANDARD
TZOFFSETFROM:-0400
TZOFFSETTO:-0500
TZNAME:EST
DTSTART:20261101T060000
END:STANDARD
BEGIN:DAYLIGHT
TZOFFSETFROM:-0500
TZOFFSETTO:-0400
TZNAME:EDT
DTSTART:20270314T070000
END:DAYLIGHT
BEGIN:STANDARD
TZOFFSETFROM:-0400
TZOFFSETTO:-0500
TZNAME:EST
DTSTART:20271107T060000
END:STANDARD
END:VTIMEZONE
BEGIN:VEVENT
DTSTART;TZID=America/New_York:20260425T130000
DTEND;TZID=America/New_York:20260425T150000
DTSTAMP:20260425T124944
CREATED:20260419T201959Z
LAST-MODIFIED:20260419T201959Z
UID:10002616-1777122000-1777129200@visitgrandrapidsohio.com
SUMMARY:Auditions for Anastasia: the Musical
DESCRIPTION:Performances will be during the Annual Rally by the River Days Event\, July 10-12th. Rehearsals are Tuesday\, Wednesday and Thursday evenings and Sunday afternoons. \nWhat to Expect: \n\nPlease come ready to sing a short musical theatre selection (1-2 minutes) that shows your vocal range.\nAn accompanist and Bluetooth speaker will be provided.\nWe will also ask you to read an act with other auditioners.\nAll ages and experience levels are welcome!\nNo appointments are needed.\nIf you cannot attend\, contact grandrapidsohiotheatre@gmail.com to arrange and submit a video audition.
URL:https://visitgrandrapidsohio.com/event/auditions-for-anastasia-the-musical/2026-04-25/
LOCATION:Grand Rapids Town Hall\, 24282 Front Street\, Grand Rapids\, OH\, 43522\, United States
ATTACH;FMTTYPE=image/jpeg:https://visitgrandrapidsohio.com/wp-content/uploads/2026/04/Anastasia-auditions.jpg
END:VEVENT
BEGIN:VEVENT
DTSTART;TZID=America/New_York:20260425T190000
DTEND;TZID=America/New_York:20260425T210000
DTSTAMP:20260425T124944
CREATED:20260125T042413Z
LAST-MODIFIED:20260125T042413Z
UID:10002093-1777143600-1777150800@visitgrandrapidsohio.com
SUMMARY:EZ Pickenz at the Town Hall
DESCRIPTION:Join us for EZ Pickenz playing country\, folk & rock n’ roll at the historic town hall in Grand Rapids Ohio
URL:https://visitgrandrapidsohio.com/event/ez-pickenz-at-the-town-hall/
LOCATION:Grand Rapids Town Hall\, 24282 Front Street\, Grand Rapids\, OH\, 43522\, United States
END:VEVENT
BEGIN:VEVENT
DTSTART;TZID=America/New_York:20260426T090000
DTEND;TZID=America/New_York:20260426T103000
DTSTAMP:20260425T124944
CREATED:20260420T015200Z
LAST-MODIFIED:20260420T015200Z
UID:10002879-1777194000-1777199400@visitgrandrapidsohio.com
SUMMARY:Grand Rapids Calvary Services
DESCRIPTION:Join us for services every Sunday at 9am\, also streamed live on Facebook.
URL:https://visitgrandrapidsohio.com/event/grand-rapids-calvary-services/
LOCATION:Grand Rapids Calvary\, 24362 W 3rd Street\, Grand Rapids\, Ohio\, United States
ATTACH;FMTTYPE=image/png:https://visitgrandrapidsohio.com/wp-content/uploads/2026/04/GR-calvary.png
END:VEVENT
BEGIN:VEVENT
DTSTART;TZID=America/New_York:20260426T090000
DTEND;TZID=America/New_York:20260426T120000
DTSTAMP:20260425T124944
CREATED:20260119T153734Z
LAST-MODIFIED:20260119T153734Z
UID:10001813-1777194000-1777204800@visitgrandrapidsohio.com
SUMMARY:First Presbyterian Church Services
DESCRIPTION:Sunday School 9am and Sunday Worship 10am
URL:https://visitgrandrapidsohio.com/event/first-presbyterian-church-services/2026-04-26/
LOCATION:First Presbyterian Church\, 17700 Beaver St\, Grand Rapids\, OH\, 43522\, United States
ATTACH;FMTTYPE=image/png:https://visitgrandrapidsohio.com/wp-content/uploads/2026/01/First-Presbyterian-Church-of-Grand-Rapids-Ohio.png
END:VEVENT
BEGIN:VEVENT
DTSTART;TZID=America/New_York:20260426T100000
DTEND;TZID=America/New_York:20260426T113000
DTSTAMP:20260425T124944
CREATED:20260420T014702Z
LAST-MODIFIED:20260420T014702Z
UID:10002619-1777197600-1777203000@visitgrandrapidsohio.com
SUMMARY:Hosanna Lutheran Church Services
DESCRIPTION:Hosanna Lutheran Church service is at 10am on Sundays. Come join us\, all is welcome.
URL:https://visitgrandrapidsohio.com/event/hosanna-lutheran-church-services/2026-04-26/
LOCATION:Hosanna Lutheran Fellowship Hall\, 23019 Kellogg Road\, Grand Rapids\, OH\, 43522\, United States
ATTACH;FMTTYPE=image/jpeg:https://visitgrandrapidsohio.com/wp-content/uploads/2026/04/HOsanna-Sundays.jpg
ORGANIZER;CN="Hosanna Lutheran Church":MAILTO:hosannalutheran@gmail.com
END:VEVENT
BEGIN:VEVENT
DTSTART;TZID=America/New_York:20260427T180000
DTEND;TZID=America/New_York:20260427T190000
DTSTAMP:20260425T124944
CREATED:20260104T215501Z
LAST-MODIFIED:20260119T161154Z
UID:10001326-1777312800-1777316400@visitgrandrapidsohio.com
SUMMARY:Village Council Meeting
DESCRIPTION:What to know what’s happening in your village? Meetings are held every 2nd and 4th Monday and are open to the public. If you have something you’d like to address with the council\, you are required to sign in at the beginning of the meeting and will have 5 minutes per topic to discuss.
URL:https://visitgrandrapidsohio.com/event/village-council-meeting-2/2026-04-27/
LOCATION:Grand Rapids Town Hall\, 24282 Front Street\, Grand Rapids\, OH\, 43522\, United States
ATTACH;FMTTYPE=image/png:https://visitgrandrapidsohio.com/wp-content/uploads/2026/01/Village-of-Grand-Rapids-Ohio.png
END:VEVENT
BEGIN:VEVENT
DTSTART;TZID=America/New_York:20260427T190000
DTEND;TZID=America/New_York:20260427T193000
DTSTAMP:20260425T124944
CREATED:20260104T215830Z
LAST-MODIFIED:20260119T174336Z
UID:10001446-1777316400-1777318200@visitgrandrapidsohio.com
SUMMARY:Township Trustees Meeting
DESCRIPTION:What to know what’s going on in your township? Meetings are held the 2nd and 4th Mondays of every month and are open to the public with opportunities to ask questions at the end of the meeting.
URL:https://visitgrandrapidsohio.com/event/township-trustees-meeting-2/2026-04-27/
LOCATION:New Fire Station\, 17706 Wapakoneta Rd\, Grand Rapids\, OH\, United States
ATTACH;FMTTYPE=image/png:https://visitgrandrapidsohio.com/wp-content/uploads/2026/01/GR-township-.png
END:VEVENT
BEGIN:VEVENT
DTSTART;TZID=America/New_York:20260428T090000
DTEND;TZID=America/New_York:20260428T163000
DTSTAMP:20260425T124944
CREATED:20260119T163409Z
LAST-MODIFIED:20260408T213126Z
UID:10002062-1777366800-1777393800@visitgrandrapidsohio.com
SUMMARY:3rd Annual Rooted in Wellness Expo 2026
DESCRIPTION:Jo Feltman\, BuchuVida and Dr. Nancy Sturtz\, Functional Medicine Plus is sponsoring the 3rd Annual Rooted in Wellness Expo\, a full-day event dedicated to helping individuals explore natural approaches to health and well-being. This inspiring gathering brings together functional medicine doctors\, nurse practitioners\, and holistic professionals who are passionate about educating and empowering others on their journey to better health. \nAttendees will enjoy expert-led presentations on topics such as inflammation\, gut health\, stress\, emotional wellness\, natural pain solutions\, financial wellness\, and the power of tea for body and mind. The Expo also provides opportunities to connect with trusted professionals\, ask questions\, and discover practical tools to support long-term wellness. \nDate: April 28\, 2026\, from 9:00 AM to 4:30 PM\nLocation: Franciscan Center in Sylvania\, Ohio.\nA wholesome lunch is included.\nCost: $85/pp \nWhether you are just beginning your wellness journey or looking to deepen your understanding\, the Rooted in Wellness Expo offers a meaningful day of learning\, connection\, and inspiration.
URL:https://visitgrandrapidsohio.com/event/rooted-in-wellness-expo-2026/
LOCATION:Franciscan Center of Lourdes University\, 6832 Convent Blvd\, Sylvania\, OH\, 43560\, United States
ATTACH;FMTTYPE=image/png:https://visitgrandrapidsohio.com/wp-content/uploads/2026/01/Rooted-in-Wellness-Expo-2026.png
ORGANIZER;CN="BuchuVida":MAILTO:support@buchuvida.com
END:VEVENT
BEGIN:VEVENT
DTSTART;TZID=America/New_York:20260428T090000
DTEND;TZID=America/New_York:20260428T163000
DTSTAMP:20260425T124944
CREATED:20260329T230010Z
LAST-MODIFIED:20260329T230010Z
UID:10002391-1777366800-1777393800@visitgrandrapidsohio.com
SUMMARY:Rooted in Wellness Expo
DESCRIPTION:Rooted in Wellness is more than just an expo; it’s a gathering of like-minded individuals dedicated to holistic health and well-being. \nThis event brings together industry experts\, health professionals and businesses to create an environment of learning\, healing and growth. LEARN + HEAL + GROW \nParticipation includes access to all sessions\, access to professionals\, educators\, delicious snacks\, and a healthy lunch. \nSign up at buchuvida.com/new–events. \nThis event is brought to you by Buchuvida and Functional Medicine Plus
URL:https://visitgrandrapidsohio.com/event/rooted-in-wellness-expo-2/
LOCATION:Franciscan Center of Lourdes University\, 6832 Convent Blvd\, Sylvania\, OH\, 43560\, United States
ATTACH;FMTTYPE=image/png:https://visitgrandrapidsohio.com/wp-content/uploads/2026/03/Rooted-in-wellness.png
ORGANIZER;CN="BuchuVida":MAILTO:support@buchuvida.com
END:VEVENT
BEGIN:VEVENT
DTSTART;TZID=America/New_York:20260428T170000
DTEND;TZID=America/New_York:20260428T180000
DTSTAMP:20260425T124944
CREATED:20260110T024516Z
LAST-MODIFIED:20260110T024516Z
UID:10001718-1777395600-1777399200@visitgrandrapidsohio.com
SUMMARY:4th Tuesday Meal at Hosanna Lutheran Church
DESCRIPTION:Join us every 4th Tuesday for fellowship and a free community meal at Hosanna Lutheran Church. Check us out on Facebook for the monthly menu!
URL:https://visitgrandrapidsohio.com/event/4th-tuesday-meal-at-hosanna-lutheran-church/2026-04-28/
LOCATION:Hosanna Lutheran Fellowship Hall\, 23019 Kellogg Road\, Grand Rapids\, OH\, 43522\, United States
ATTACH;FMTTYPE=image/jpeg:https://visitgrandrapidsohio.com/wp-content/uploads/2026/01/Hosanna-Lutheran-4th-Tuesday.jpg
ORGANIZER;CN="Hosanna Lutheran Church":MAILTO:hosannalutheran@gmail.com
END:VEVENT
BEGIN:VEVENT
DTSTART;TZID=America/New_York:20260428T170000
DTEND;TZID=America/New_York:20260428T180000
DTSTAMP:20260425T124944
CREATED:20260419T173626Z
LAST-MODIFIED:20260419T173626Z
UID:10002494-1777395600-1777399200@visitgrandrapidsohio.com
SUMMARY:4th Tuesday Meal at Hosanna Lutheran Church
DESCRIPTION:We serve a full meal free of charge for anyone that wants to join us. We also offer carry out for those who can’t stay.
URL:https://visitgrandrapidsohio.com/event/4th-tuesday-meal-at-hosanna-lutheran-church-2/2026-04-28/
LOCATION:Hosanna Lutheran Fellowship Hall\, 23019 Kellogg Road\, Grand Rapids\, OH\, 43522\, United States
ATTACH;FMTTYPE=image/jpeg:https://visitgrandrapidsohio.com/wp-content/uploads/2026/04/4th-Tuesday-scaled.jpeg
ORGANIZER;CN="Hosanna Lutheran Church":MAILTO:hosannalutheran@gmail.com
END:VEVENT
BEGIN:VEVENT
DTSTART;TZID=America/New_York:20260430T180000
DTEND;TZID=America/New_York:20260430T190000
DTSTAMP:20260425T124944
CREATED:20260202T004032Z
LAST-MODIFIED:20260202T004032Z
UID:10002113-1777572000-1777575600@visitgrandrapidsohio.com
SUMMARY:YogaFaith
DESCRIPTION:Experience Yoga Faith\, a transformative weekly class at Buchuvida led by Jo Feltman and Christine Fowler. Donations accepted.\nUnite your mind\, body\, and spirit through gentle movements\, breathwork\, and mindfulness. People of all experience levels are welcome. Discover inner peace\, release stress\, and cultivate well-being.\nJoin us and embark on a journey of self- realization and harmony.\nSpace is limited\, please sign up on our website buchuvida.com/new-events.
URL:https://visitgrandrapidsohio.com/event/yogafaith/2026-04-30/
LOCATION:BuchuVida\, Grand Rapids\, OH\, 43522\, United States
ATTACH;FMTTYPE=image/png:https://visitgrandrapidsohio.com/wp-content/uploads/2026/02/YogaFaith-calendar.png
ORGANIZER;CN="BuchuVida":MAILTO:support@buchuvida.com
END:VEVENT
END:VCALENDAR