BEGIN:VCALENDAR
VERSION:2.0
PRODID:-//Grand Rapids OH Chamber - ECPv6.15.20//NONSGML v1.0//EN
CALSCALE:GREGORIAN
METHOD:PUBLISH
X-WR-CALNAME:Grand Rapids OH Chamber
X-ORIGINAL-URL:https://visitgrandrapidsohio.com
X-WR-CALDESC:Events for Grand Rapids OH Chamber
REFRESH-INTERVAL;VALUE=DURATION:PT1H
X-Robots-Tag:noindex
X-PUBLISHED-TTL:PT1H
BEGIN:VTIMEZONE
TZID:America/New_York
BEGIN:DAYLIGHT
TZOFFSETFROM:-0500
TZOFFSETTO:-0400
TZNAME:EDT
DTSTART:20250309T070000
END:DAYLIGHT
BEGIN:STANDARD
TZOFFSETFROM:-0400
TZOFFSETTO:-0500
TZNAME:EST
DTSTART:20251102T060000
END:STANDARD
BEGIN:DAYLIGHT
TZOFFSETFROM:-0500
TZOFFSETTO:-0400
TZNAME:EDT
DTSTART:20260308T070000
END:DAYLIGHT
BEGIN:STANDARD
TZOFFSETFROM:-0400
TZOFFSETTO:-0500
TZNAME:EST
DTSTART:20261101T060000
END:STANDARD
BEGIN:DAYLIGHT
TZOFFSETFROM:-0500
TZOFFSETTO:-0400
TZNAME:EDT
DTSTART:20270314T070000
END:DAYLIGHT
BEGIN:STANDARD
TZOFFSETFROM:-0400
TZOFFSETTO:-0500
TZNAME:EST
DTSTART:20271107T060000
END:STANDARD
END:VTIMEZONE
BEGIN:VEVENT
DTSTART;TZID=America/New_York:20260426T100000
DTEND;TZID=America/New_York:20260426T113000
DTSTAMP:20260420T021947
CREATED:20260420T014702Z
LAST-MODIFIED:20260420T014702Z
UID:10002619-1777197600-1777203000@visitgrandrapidsohio.com
SUMMARY:Hosanna Lutheran Church Services
DESCRIPTION:Hosanna Lutheran Church service is at 10am on Sundays. Come join us\, all is welcome.
URL:https://visitgrandrapidsohio.com/event/hosanna-lutheran-church-services/2026-04-26/
LOCATION:Hosanna Lutheran Fellowship Hall\, 23019 Kellogg Road\, Grand Rapids\, OH\, 43522\, United States
ATTACH;FMTTYPE=image/jpeg:https://visitgrandrapidsohio.com/wp-content/uploads/2026/04/HOsanna-Sundays.jpg
ORGANIZER;CN="Hosanna Lutheran Church":MAILTO:hosannalutheran@gmail.com
END:VEVENT
BEGIN:VEVENT
DTSTART;TZID=America/New_York:20260503T100000
DTEND;TZID=America/New_York:20260503T113000
DTSTAMP:20260420T021947
CREATED:20260420T014702Z
LAST-MODIFIED:20260420T014702Z
UID:10002620-1777802400-1777807800@visitgrandrapidsohio.com
SUMMARY:Hosanna Lutheran Church Services
DESCRIPTION:Hosanna Lutheran Church service is at 10am on Sundays. Come join us\, all is welcome.
URL:https://visitgrandrapidsohio.com/event/hosanna-lutheran-church-services/2026-05-03/
LOCATION:Hosanna Lutheran Fellowship Hall\, 23019 Kellogg Road\, Grand Rapids\, OH\, 43522\, United States
ATTACH;FMTTYPE=image/jpeg:https://visitgrandrapidsohio.com/wp-content/uploads/2026/04/HOsanna-Sundays.jpg
ORGANIZER;CN="Hosanna Lutheran Church":MAILTO:hosannalutheran@gmail.com
END:VEVENT
BEGIN:VEVENT
DTSTART;TZID=America/New_York:20260510T100000
DTEND;TZID=America/New_York:20260510T113000
DTSTAMP:20260420T021947
CREATED:20260420T014702Z
LAST-MODIFIED:20260420T014702Z
UID:10002621-1778407200-1778412600@visitgrandrapidsohio.com
SUMMARY:Hosanna Lutheran Church Services
DESCRIPTION:Hosanna Lutheran Church service is at 10am on Sundays. Come join us\, all is welcome.
URL:https://visitgrandrapidsohio.com/event/hosanna-lutheran-church-services/2026-05-10/
LOCATION:Hosanna Lutheran Fellowship Hall\, 23019 Kellogg Road\, Grand Rapids\, OH\, 43522\, United States
ATTACH;FMTTYPE=image/jpeg:https://visitgrandrapidsohio.com/wp-content/uploads/2026/04/HOsanna-Sundays.jpg
ORGANIZER;CN="Hosanna Lutheran Church":MAILTO:hosannalutheran@gmail.com
END:VEVENT
BEGIN:VEVENT
DTSTART;TZID=America/New_York:20260517T100000
DTEND;TZID=America/New_York:20260517T113000
DTSTAMP:20260420T021947
CREATED:20260420T014702Z
LAST-MODIFIED:20260420T014702Z
UID:10002622-1779012000-1779017400@visitgrandrapidsohio.com
SUMMARY:Hosanna Lutheran Church Services
DESCRIPTION:Hosanna Lutheran Church service is at 10am on Sundays. Come join us\, all is welcome.
URL:https://visitgrandrapidsohio.com/event/hosanna-lutheran-church-services/2026-05-17/
LOCATION:Hosanna Lutheran Fellowship Hall\, 23019 Kellogg Road\, Grand Rapids\, OH\, 43522\, United States
ATTACH;FMTTYPE=image/jpeg:https://visitgrandrapidsohio.com/wp-content/uploads/2026/04/HOsanna-Sundays.jpg
ORGANIZER;CN="Hosanna Lutheran Church":MAILTO:hosannalutheran@gmail.com
END:VEVENT
BEGIN:VEVENT
DTSTART;TZID=America/New_York:20260524T100000
DTEND;TZID=America/New_York:20260524T113000
DTSTAMP:20260420T021947
CREATED:20260420T014702Z
LAST-MODIFIED:20260420T014702Z
UID:10002623-1779616800-1779622200@visitgrandrapidsohio.com
SUMMARY:Hosanna Lutheran Church Services
DESCRIPTION:Hosanna Lutheran Church service is at 10am on Sundays. Come join us\, all is welcome.
URL:https://visitgrandrapidsohio.com/event/hosanna-lutheran-church-services/2026-05-24/
LOCATION:Hosanna Lutheran Fellowship Hall\, 23019 Kellogg Road\, Grand Rapids\, OH\, 43522\, United States
ATTACH;FMTTYPE=image/jpeg:https://visitgrandrapidsohio.com/wp-content/uploads/2026/04/HOsanna-Sundays.jpg
ORGANIZER;CN="Hosanna Lutheran Church":MAILTO:hosannalutheran@gmail.com
END:VEVENT
BEGIN:VEVENT
DTSTART;TZID=America/New_York:20260531T100000
DTEND;TZID=America/New_York:20260531T113000
DTSTAMP:20260420T021947
CREATED:20260420T014702Z
LAST-MODIFIED:20260420T014702Z
UID:10002624-1780221600-1780227000@visitgrandrapidsohio.com
SUMMARY:Hosanna Lutheran Church Services
DESCRIPTION:Hosanna Lutheran Church service is at 10am on Sundays. Come join us\, all is welcome.
URL:https://visitgrandrapidsohio.com/event/hosanna-lutheran-church-services/2026-05-31/
LOCATION:Hosanna Lutheran Fellowship Hall\, 23019 Kellogg Road\, Grand Rapids\, OH\, 43522\, United States
ATTACH;FMTTYPE=image/jpeg:https://visitgrandrapidsohio.com/wp-content/uploads/2026/04/HOsanna-Sundays.jpg
ORGANIZER;CN="Hosanna Lutheran Church":MAILTO:hosannalutheran@gmail.com
END:VEVENT
BEGIN:VEVENT
DTSTART;TZID=America/New_York:20260607T100000
DTEND;TZID=America/New_York:20260607T113000
DTSTAMP:20260420T021947
CREATED:20260420T014702Z
LAST-MODIFIED:20260420T014702Z
UID:10002625-1780826400-1780831800@visitgrandrapidsohio.com
SUMMARY:Hosanna Lutheran Church Services
DESCRIPTION:Hosanna Lutheran Church service is at 10am on Sundays. Come join us\, all is welcome.
URL:https://visitgrandrapidsohio.com/event/hosanna-lutheran-church-services/2026-06-07/
LOCATION:Hosanna Lutheran Fellowship Hall\, 23019 Kellogg Road\, Grand Rapids\, OH\, 43522\, United States
ATTACH;FMTTYPE=image/jpeg:https://visitgrandrapidsohio.com/wp-content/uploads/2026/04/HOsanna-Sundays.jpg
ORGANIZER;CN="Hosanna Lutheran Church":MAILTO:hosannalutheran@gmail.com
END:VEVENT
BEGIN:VEVENT
DTSTART;TZID=America/New_York:20260614T100000
DTEND;TZID=America/New_York:20260614T113000
DTSTAMP:20260420T021947
CREATED:20260420T014702Z
LAST-MODIFIED:20260420T014702Z
UID:10002626-1781431200-1781436600@visitgrandrapidsohio.com
SUMMARY:Hosanna Lutheran Church Services
DESCRIPTION:Hosanna Lutheran Church service is at 10am on Sundays. Come join us\, all is welcome.
URL:https://visitgrandrapidsohio.com/event/hosanna-lutheran-church-services/2026-06-14/
LOCATION:Hosanna Lutheran Fellowship Hall\, 23019 Kellogg Road\, Grand Rapids\, OH\, 43522\, United States
ATTACH;FMTTYPE=image/jpeg:https://visitgrandrapidsohio.com/wp-content/uploads/2026/04/HOsanna-Sundays.jpg
ORGANIZER;CN="Hosanna Lutheran Church":MAILTO:hosannalutheran@gmail.com
END:VEVENT
BEGIN:VEVENT
DTSTART;TZID=America/New_York:20260621T100000
DTEND;TZID=America/New_York:20260621T113000
DTSTAMP:20260420T021947
CREATED:20260420T014702Z
LAST-MODIFIED:20260420T014702Z
UID:10002627-1782036000-1782041400@visitgrandrapidsohio.com
SUMMARY:Hosanna Lutheran Church Services
DESCRIPTION:Hosanna Lutheran Church service is at 10am on Sundays. Come join us\, all is welcome.
URL:https://visitgrandrapidsohio.com/event/hosanna-lutheran-church-services/2026-06-21/
LOCATION:Hosanna Lutheran Fellowship Hall\, 23019 Kellogg Road\, Grand Rapids\, OH\, 43522\, United States
ATTACH;FMTTYPE=image/jpeg:https://visitgrandrapidsohio.com/wp-content/uploads/2026/04/HOsanna-Sundays.jpg
ORGANIZER;CN="Hosanna Lutheran Church":MAILTO:hosannalutheran@gmail.com
END:VEVENT
BEGIN:VEVENT
DTSTART;TZID=America/New_York:20260628T100000
DTEND;TZID=America/New_York:20260628T113000
DTSTAMP:20260420T021947
CREATED:20260420T014702Z
LAST-MODIFIED:20260420T014702Z
UID:10002628-1782640800-1782646200@visitgrandrapidsohio.com
SUMMARY:Hosanna Lutheran Church Services
DESCRIPTION:Hosanna Lutheran Church service is at 10am on Sundays. Come join us\, all is welcome.
URL:https://visitgrandrapidsohio.com/event/hosanna-lutheran-church-services/2026-06-28/
LOCATION:Hosanna Lutheran Fellowship Hall\, 23019 Kellogg Road\, Grand Rapids\, OH\, 43522\, United States
ATTACH;FMTTYPE=image/jpeg:https://visitgrandrapidsohio.com/wp-content/uploads/2026/04/HOsanna-Sundays.jpg
ORGANIZER;CN="Hosanna Lutheran Church":MAILTO:hosannalutheran@gmail.com
END:VEVENT
BEGIN:VEVENT
DTSTART;TZID=America/New_York:20260705T100000
DTEND;TZID=America/New_York:20260705T113000
DTSTAMP:20260420T021947
CREATED:20260420T014702Z
LAST-MODIFIED:20260420T014702Z
UID:10002629-1783245600-1783251000@visitgrandrapidsohio.com
SUMMARY:Hosanna Lutheran Church Services
DESCRIPTION:Hosanna Lutheran Church service is at 10am on Sundays. Come join us\, all is welcome.
URL:https://visitgrandrapidsohio.com/event/hosanna-lutheran-church-services/2026-07-05/
LOCATION:Hosanna Lutheran Fellowship Hall\, 23019 Kellogg Road\, Grand Rapids\, OH\, 43522\, United States
ATTACH;FMTTYPE=image/jpeg:https://visitgrandrapidsohio.com/wp-content/uploads/2026/04/HOsanna-Sundays.jpg
ORGANIZER;CN="Hosanna Lutheran Church":MAILTO:hosannalutheran@gmail.com
END:VEVENT
BEGIN:VEVENT
DTSTART;TZID=America/New_York:20260712T100000
DTEND;TZID=America/New_York:20260712T113000
DTSTAMP:20260420T021947
CREATED:20260420T014702Z
LAST-MODIFIED:20260420T014702Z
UID:10002630-1783850400-1783855800@visitgrandrapidsohio.com
SUMMARY:Hosanna Lutheran Church Services
DESCRIPTION:Hosanna Lutheran Church service is at 10am on Sundays. Come join us\, all is welcome.
URL:https://visitgrandrapidsohio.com/event/hosanna-lutheran-church-services/2026-07-12/
LOCATION:Hosanna Lutheran Fellowship Hall\, 23019 Kellogg Road\, Grand Rapids\, OH\, 43522\, United States
ATTACH;FMTTYPE=image/jpeg:https://visitgrandrapidsohio.com/wp-content/uploads/2026/04/HOsanna-Sundays.jpg
ORGANIZER;CN="Hosanna Lutheran Church":MAILTO:hosannalutheran@gmail.com
END:VEVENT
BEGIN:VEVENT
DTSTART;TZID=America/New_York:20260719T100000
DTEND;TZID=America/New_York:20260719T113000
DTSTAMP:20260420T021947
CREATED:20260420T014702Z
LAST-MODIFIED:20260420T014702Z
UID:10002631-1784455200-1784460600@visitgrandrapidsohio.com
SUMMARY:Hosanna Lutheran Church Services
DESCRIPTION:Hosanna Lutheran Church service is at 10am on Sundays. Come join us\, all is welcome.
URL:https://visitgrandrapidsohio.com/event/hosanna-lutheran-church-services/2026-07-19/
LOCATION:Hosanna Lutheran Fellowship Hall\, 23019 Kellogg Road\, Grand Rapids\, OH\, 43522\, United States
ATTACH;FMTTYPE=image/jpeg:https://visitgrandrapidsohio.com/wp-content/uploads/2026/04/HOsanna-Sundays.jpg
ORGANIZER;CN="Hosanna Lutheran Church":MAILTO:hosannalutheran@gmail.com
END:VEVENT
BEGIN:VEVENT
DTSTART;TZID=America/New_York:20260726T100000
DTEND;TZID=America/New_York:20260726T113000
DTSTAMP:20260420T021947
CREATED:20260420T014702Z
LAST-MODIFIED:20260420T014702Z
UID:10002632-1785060000-1785065400@visitgrandrapidsohio.com
SUMMARY:Hosanna Lutheran Church Services
DESCRIPTION:Hosanna Lutheran Church service is at 10am on Sundays. Come join us\, all is welcome.
URL:https://visitgrandrapidsohio.com/event/hosanna-lutheran-church-services/2026-07-26/
LOCATION:Hosanna Lutheran Fellowship Hall\, 23019 Kellogg Road\, Grand Rapids\, OH\, 43522\, United States
ATTACH;FMTTYPE=image/jpeg:https://visitgrandrapidsohio.com/wp-content/uploads/2026/04/HOsanna-Sundays.jpg
ORGANIZER;CN="Hosanna Lutheran Church":MAILTO:hosannalutheran@gmail.com
END:VEVENT
BEGIN:VEVENT
DTSTART;TZID=America/New_York:20260802T100000
DTEND;TZID=America/New_York:20260802T113000
DTSTAMP:20260420T021947
CREATED:20260420T014702Z
LAST-MODIFIED:20260420T014702Z
UID:10002633-1785664800-1785670200@visitgrandrapidsohio.com
SUMMARY:Hosanna Lutheran Church Services
DESCRIPTION:Hosanna Lutheran Church service is at 10am on Sundays. Come join us\, all is welcome.
URL:https://visitgrandrapidsohio.com/event/hosanna-lutheran-church-services/2026-08-02/
LOCATION:Hosanna Lutheran Fellowship Hall\, 23019 Kellogg Road\, Grand Rapids\, OH\, 43522\, United States
ATTACH;FMTTYPE=image/jpeg:https://visitgrandrapidsohio.com/wp-content/uploads/2026/04/HOsanna-Sundays.jpg
ORGANIZER;CN="Hosanna Lutheran Church":MAILTO:hosannalutheran@gmail.com
END:VEVENT
BEGIN:VEVENT
DTSTART;TZID=America/New_York:20260809T100000
DTEND;TZID=America/New_York:20260809T113000
DTSTAMP:20260420T021947
CREATED:20260420T014702Z
LAST-MODIFIED:20260420T014702Z
UID:10002634-1786269600-1786275000@visitgrandrapidsohio.com
SUMMARY:Hosanna Lutheran Church Services
DESCRIPTION:Hosanna Lutheran Church service is at 10am on Sundays. Come join us\, all is welcome.
URL:https://visitgrandrapidsohio.com/event/hosanna-lutheran-church-services/2026-08-09/
LOCATION:Hosanna Lutheran Fellowship Hall\, 23019 Kellogg Road\, Grand Rapids\, OH\, 43522\, United States
ATTACH;FMTTYPE=image/jpeg:https://visitgrandrapidsohio.com/wp-content/uploads/2026/04/HOsanna-Sundays.jpg
ORGANIZER;CN="Hosanna Lutheran Church":MAILTO:hosannalutheran@gmail.com
END:VEVENT
BEGIN:VEVENT
DTSTART;TZID=America/New_York:20260816T100000
DTEND;TZID=America/New_York:20260816T113000
DTSTAMP:20260420T021947
CREATED:20260420T014702Z
LAST-MODIFIED:20260420T014702Z
UID:10002635-1786874400-1786879800@visitgrandrapidsohio.com
SUMMARY:Hosanna Lutheran Church Services
DESCRIPTION:Hosanna Lutheran Church service is at 10am on Sundays. Come join us\, all is welcome.
URL:https://visitgrandrapidsohio.com/event/hosanna-lutheran-church-services/2026-08-16/
LOCATION:Hosanna Lutheran Fellowship Hall\, 23019 Kellogg Road\, Grand Rapids\, OH\, 43522\, United States
ATTACH;FMTTYPE=image/jpeg:https://visitgrandrapidsohio.com/wp-content/uploads/2026/04/HOsanna-Sundays.jpg
ORGANIZER;CN="Hosanna Lutheran Church":MAILTO:hosannalutheran@gmail.com
END:VEVENT
BEGIN:VEVENT
DTSTART;TZID=America/New_York:20260823T100000
DTEND;TZID=America/New_York:20260823T113000
DTSTAMP:20260420T021947
CREATED:20260420T014702Z
LAST-MODIFIED:20260420T014702Z
UID:10002636-1787479200-1787484600@visitgrandrapidsohio.com
SUMMARY:Hosanna Lutheran Church Services
DESCRIPTION:Hosanna Lutheran Church service is at 10am on Sundays. Come join us\, all is welcome.
URL:https://visitgrandrapidsohio.com/event/hosanna-lutheran-church-services/2026-08-23/
LOCATION:Hosanna Lutheran Fellowship Hall\, 23019 Kellogg Road\, Grand Rapids\, OH\, 43522\, United States
ATTACH;FMTTYPE=image/jpeg:https://visitgrandrapidsohio.com/wp-content/uploads/2026/04/HOsanna-Sundays.jpg
ORGANIZER;CN="Hosanna Lutheran Church":MAILTO:hosannalutheran@gmail.com
END:VEVENT
BEGIN:VEVENT
DTSTART;TZID=America/New_York:20260830T100000
DTEND;TZID=America/New_York:20260830T113000
DTSTAMP:20260420T021947
CREATED:20260420T014702Z
LAST-MODIFIED:20260420T014702Z
UID:10002637-1788084000-1788089400@visitgrandrapidsohio.com
SUMMARY:Hosanna Lutheran Church Services
DESCRIPTION:Hosanna Lutheran Church service is at 10am on Sundays. Come join us\, all is welcome.
URL:https://visitgrandrapidsohio.com/event/hosanna-lutheran-church-services/2026-08-30/
LOCATION:Hosanna Lutheran Fellowship Hall\, 23019 Kellogg Road\, Grand Rapids\, OH\, 43522\, United States
ATTACH;FMTTYPE=image/jpeg:https://visitgrandrapidsohio.com/wp-content/uploads/2026/04/HOsanna-Sundays.jpg
ORGANIZER;CN="Hosanna Lutheran Church":MAILTO:hosannalutheran@gmail.com
END:VEVENT
BEGIN:VEVENT
DTSTART;TZID=America/New_York:20260906T100000
DTEND;TZID=America/New_York:20260906T113000
DTSTAMP:20260420T021947
CREATED:20260420T014702Z
LAST-MODIFIED:20260420T014702Z
UID:10002638-1788688800-1788694200@visitgrandrapidsohio.com
SUMMARY:Hosanna Lutheran Church Services
DESCRIPTION:Hosanna Lutheran Church service is at 10am on Sundays. Come join us\, all is welcome.
URL:https://visitgrandrapidsohio.com/event/hosanna-lutheran-church-services/2026-09-06/
LOCATION:Hosanna Lutheran Fellowship Hall\, 23019 Kellogg Road\, Grand Rapids\, OH\, 43522\, United States
ATTACH;FMTTYPE=image/jpeg:https://visitgrandrapidsohio.com/wp-content/uploads/2026/04/HOsanna-Sundays.jpg
ORGANIZER;CN="Hosanna Lutheran Church":MAILTO:hosannalutheran@gmail.com
END:VEVENT
BEGIN:VEVENT
DTSTART;TZID=America/New_York:20260913T100000
DTEND;TZID=America/New_York:20260913T113000
DTSTAMP:20260420T021947
CREATED:20260420T014702Z
LAST-MODIFIED:20260420T014702Z
UID:10002639-1789293600-1789299000@visitgrandrapidsohio.com
SUMMARY:Hosanna Lutheran Church Services
DESCRIPTION:Hosanna Lutheran Church service is at 10am on Sundays. Come join us\, all is welcome.
URL:https://visitgrandrapidsohio.com/event/hosanna-lutheran-church-services/2026-09-13/
LOCATION:Hosanna Lutheran Fellowship Hall\, 23019 Kellogg Road\, Grand Rapids\, OH\, 43522\, United States
ATTACH;FMTTYPE=image/jpeg:https://visitgrandrapidsohio.com/wp-content/uploads/2026/04/HOsanna-Sundays.jpg
ORGANIZER;CN="Hosanna Lutheran Church":MAILTO:hosannalutheran@gmail.com
END:VEVENT
BEGIN:VEVENT
DTSTART;TZID=America/New_York:20260920T100000
DTEND;TZID=America/New_York:20260920T113000
DTSTAMP:20260420T021947
CREATED:20260420T014702Z
LAST-MODIFIED:20260420T014702Z
UID:10002640-1789898400-1789903800@visitgrandrapidsohio.com
SUMMARY:Hosanna Lutheran Church Services
DESCRIPTION:Hosanna Lutheran Church service is at 10am on Sundays. Come join us\, all is welcome.
URL:https://visitgrandrapidsohio.com/event/hosanna-lutheran-church-services/2026-09-20/
LOCATION:Hosanna Lutheran Fellowship Hall\, 23019 Kellogg Road\, Grand Rapids\, OH\, 43522\, United States
ATTACH;FMTTYPE=image/jpeg:https://visitgrandrapidsohio.com/wp-content/uploads/2026/04/HOsanna-Sundays.jpg
ORGANIZER;CN="Hosanna Lutheran Church":MAILTO:hosannalutheran@gmail.com
END:VEVENT
BEGIN:VEVENT
DTSTART;TZID=America/New_York:20260927T100000
DTEND;TZID=America/New_York:20260927T113000
DTSTAMP:20260420T021947
CREATED:20260420T014702Z
LAST-MODIFIED:20260420T014702Z
UID:10002641-1790503200-1790508600@visitgrandrapidsohio.com
SUMMARY:Hosanna Lutheran Church Services
DESCRIPTION:Hosanna Lutheran Church service is at 10am on Sundays. Come join us\, all is welcome.
URL:https://visitgrandrapidsohio.com/event/hosanna-lutheran-church-services/2026-09-27/
LOCATION:Hosanna Lutheran Fellowship Hall\, 23019 Kellogg Road\, Grand Rapids\, OH\, 43522\, United States
ATTACH;FMTTYPE=image/jpeg:https://visitgrandrapidsohio.com/wp-content/uploads/2026/04/HOsanna-Sundays.jpg
ORGANIZER;CN="Hosanna Lutheran Church":MAILTO:hosannalutheran@gmail.com
END:VEVENT
BEGIN:VEVENT
DTSTART;TZID=America/New_York:20261004T100000
DTEND;TZID=America/New_York:20261004T113000
DTSTAMP:20260420T021947
CREATED:20260420T014702Z
LAST-MODIFIED:20260420T014702Z
UID:10002642-1791108000-1791113400@visitgrandrapidsohio.com
SUMMARY:Hosanna Lutheran Church Services
DESCRIPTION:Hosanna Lutheran Church service is at 10am on Sundays. Come join us\, all is welcome.
URL:https://visitgrandrapidsohio.com/event/hosanna-lutheran-church-services/2026-10-04/
LOCATION:Hosanna Lutheran Fellowship Hall\, 23019 Kellogg Road\, Grand Rapids\, OH\, 43522\, United States
ATTACH;FMTTYPE=image/jpeg:https://visitgrandrapidsohio.com/wp-content/uploads/2026/04/HOsanna-Sundays.jpg
ORGANIZER;CN="Hosanna Lutheran Church":MAILTO:hosannalutheran@gmail.com
END:VEVENT
BEGIN:VEVENT
DTSTART;TZID=America/New_York:20261011T100000
DTEND;TZID=America/New_York:20261011T113000
DTSTAMP:20260420T021947
CREATED:20260420T014702Z
LAST-MODIFIED:20260420T014702Z
UID:10002643-1791712800-1791718200@visitgrandrapidsohio.com
SUMMARY:Hosanna Lutheran Church Services
DESCRIPTION:Hosanna Lutheran Church service is at 10am on Sundays. Come join us\, all is welcome.
URL:https://visitgrandrapidsohio.com/event/hosanna-lutheran-church-services/2026-10-11/
LOCATION:Hosanna Lutheran Fellowship Hall\, 23019 Kellogg Road\, Grand Rapids\, OH\, 43522\, United States
ATTACH;FMTTYPE=image/jpeg:https://visitgrandrapidsohio.com/wp-content/uploads/2026/04/HOsanna-Sundays.jpg
ORGANIZER;CN="Hosanna Lutheran Church":MAILTO:hosannalutheran@gmail.com
END:VEVENT
BEGIN:VEVENT
DTSTART;TZID=America/New_York:20261018T100000
DTEND;TZID=America/New_York:20261018T113000
DTSTAMP:20260420T021947
CREATED:20260420T014702Z
LAST-MODIFIED:20260420T014702Z
UID:10002644-1792317600-1792323000@visitgrandrapidsohio.com
SUMMARY:Hosanna Lutheran Church Services
DESCRIPTION:Hosanna Lutheran Church service is at 10am on Sundays. Come join us\, all is welcome.
URL:https://visitgrandrapidsohio.com/event/hosanna-lutheran-church-services/2026-10-18/
LOCATION:Hosanna Lutheran Fellowship Hall\, 23019 Kellogg Road\, Grand Rapids\, OH\, 43522\, United States
ATTACH;FMTTYPE=image/jpeg:https://visitgrandrapidsohio.com/wp-content/uploads/2026/04/HOsanna-Sundays.jpg
ORGANIZER;CN="Hosanna Lutheran Church":MAILTO:hosannalutheran@gmail.com
END:VEVENT
BEGIN:VEVENT
DTSTART;TZID=America/New_York:20261025T100000
DTEND;TZID=America/New_York:20261025T113000
DTSTAMP:20260420T021947
CREATED:20260420T014702Z
LAST-MODIFIED:20260420T014702Z
UID:10002645-1792922400-1792927800@visitgrandrapidsohio.com
SUMMARY:Hosanna Lutheran Church Services
DESCRIPTION:Hosanna Lutheran Church service is at 10am on Sundays. Come join us\, all is welcome.
URL:https://visitgrandrapidsohio.com/event/hosanna-lutheran-church-services/2026-10-25/
LOCATION:Hosanna Lutheran Fellowship Hall\, 23019 Kellogg Road\, Grand Rapids\, OH\, 43522\, United States
ATTACH;FMTTYPE=image/jpeg:https://visitgrandrapidsohio.com/wp-content/uploads/2026/04/HOsanna-Sundays.jpg
ORGANIZER;CN="Hosanna Lutheran Church":MAILTO:hosannalutheran@gmail.com
END:VEVENT
BEGIN:VEVENT
DTSTART;TZID=America/New_York:20261101T100000
DTEND;TZID=America/New_York:20261101T113000
DTSTAMP:20260420T021947
CREATED:20260420T014702Z
LAST-MODIFIED:20260420T014702Z
UID:10002646-1793527200-1793532600@visitgrandrapidsohio.com
SUMMARY:Hosanna Lutheran Church Services
DESCRIPTION:Hosanna Lutheran Church service is at 10am on Sundays. Come join us\, all is welcome.
URL:https://visitgrandrapidsohio.com/event/hosanna-lutheran-church-services/2026-11-01/
LOCATION:Hosanna Lutheran Fellowship Hall\, 23019 Kellogg Road\, Grand Rapids\, OH\, 43522\, United States
ATTACH;FMTTYPE=image/jpeg:https://visitgrandrapidsohio.com/wp-content/uploads/2026/04/HOsanna-Sundays.jpg
ORGANIZER;CN="Hosanna Lutheran Church":MAILTO:hosannalutheran@gmail.com
END:VEVENT
BEGIN:VEVENT
DTSTART;TZID=America/New_York:20261108T100000
DTEND;TZID=America/New_York:20261108T113000
DTSTAMP:20260420T021947
CREATED:20260420T014702Z
LAST-MODIFIED:20260420T014702Z
UID:10002647-1794132000-1794137400@visitgrandrapidsohio.com
SUMMARY:Hosanna Lutheran Church Services
DESCRIPTION:Hosanna Lutheran Church service is at 10am on Sundays. Come join us\, all is welcome.
URL:https://visitgrandrapidsohio.com/event/hosanna-lutheran-church-services/2026-11-08/
LOCATION:Hosanna Lutheran Fellowship Hall\, 23019 Kellogg Road\, Grand Rapids\, OH\, 43522\, United States
ATTACH;FMTTYPE=image/jpeg:https://visitgrandrapidsohio.com/wp-content/uploads/2026/04/HOsanna-Sundays.jpg
ORGANIZER;CN="Hosanna Lutheran Church":MAILTO:hosannalutheran@gmail.com
END:VEVENT
BEGIN:VEVENT
DTSTART;TZID=America/New_York:20261115T100000
DTEND;TZID=America/New_York:20261115T113000
DTSTAMP:20260420T021947
CREATED:20260420T014702Z
LAST-MODIFIED:20260420T014702Z
UID:10002648-1794736800-1794742200@visitgrandrapidsohio.com
SUMMARY:Hosanna Lutheran Church Services
DESCRIPTION:Hosanna Lutheran Church service is at 10am on Sundays. Come join us\, all is welcome.
URL:https://visitgrandrapidsohio.com/event/hosanna-lutheran-church-services/2026-11-15/
LOCATION:Hosanna Lutheran Fellowship Hall\, 23019 Kellogg Road\, Grand Rapids\, OH\, 43522\, United States
ATTACH;FMTTYPE=image/jpeg:https://visitgrandrapidsohio.com/wp-content/uploads/2026/04/HOsanna-Sundays.jpg
ORGANIZER;CN="Hosanna Lutheran Church":MAILTO:hosannalutheran@gmail.com
END:VEVENT
END:VCALENDAR